0.0000089993
0.0000000000
0.0000000000
-0.0000089993
-80.8942224622
31.9689884809
