0.0000089993
0.0000000000
0.0000000000
-0.0000089993
-80.8623650108
32.0000269978
