0.0000089993
0.0000000000
0.0000000000
-0.0000089993
-80.8571094312
32.0040856731
