0.0000089993
0.0000000000
0.0000000000
-0.0000089993
-80.8518088553
32.0140478761
