0.0000089993
0.0000000000
0.0000000000
-0.0000089993
-80.8412437005
32.0050215982
