0.0000089993
0.0000000000
0.0000000000
-0.0000089993
-78.0088642909
33.8630939525
