0.0000089993
0.0000000000
0.0000000000
-0.0000089993
-78.0051295896
33.8783567314
