0.0000089993
0.0000000000
0.0000000000
-0.0000089993
-77.9947984161
33.8540136789
