0.0000089993
0.0000000000
0.0000000000
-0.0000089993
-78.0000449964
33.8630129589
