0.0000089993
0.0000000000
0.0000000000
-0.0000089993
-77.9939434845
33.8542746580
