0.0000089993
0.0000000000
0.0000000000
-0.0000089993
-77.9834593233
33.8635349171
