0.0000089993
0.0000000000
0.0000000000
-0.0000089993
-77.9617350612
33.8600521958
