0.0000089993
0.0000000000
0.0000000000
-0.0000089993
-77.9612401008
33.8458243340
