0.0000057955
0.0000000000
0.0000000000
-0.0000057955
-77.9723521598
33.8547936999
