0.0000057955
0.0000000000
0.0000000000
-0.0000057955
-77.9725781857
33.8638057590
