0.0000089993
0.0000000000
0.0000000000
-0.0000089993
-77.9681065515
33.8818124549
