0.0000089993
0.0000000000
0.0000000000
-0.0000089993
-77.9523128150
33.9001709863
