0.0000089993
0.0000000000
0.0000000000
-0.0000089993
-77.9526187905
33.9092602591
