0.0000089993
0.0000000000
0.0000000000
-0.0000089993
-77.9527537797
33.9183585313
