0.0000089993
0.0000000000
0.0000000000
-0.0000089993
-77.9431605472
33.9367620590
