0.0000089993
0.0000000000
0.0000000000
-0.0000089993
-77.9386159107
33.9017638589
