0.0000089993
0.0000000000
0.0000000000
-0.0000089993
-77.9424406048
33.9275017998
