0.0000089993
0.0000000000
0.0000000000
-0.0000089993
-77.9157487401
34.0152537797
