0.0000089993
0.0000000000
0.0000000000
-0.0000089993
-77.9049586033
34.0411447084
