0.0000089993
0.0000000000
0.0000000000
-0.0000089993
-77.8947624190
34.0685925126
