0.0000089993
0.0000000000
0.0000000000
-0.0000089993
-77.8879499640
34.0910367170
