0.0000089993
0.0000000000
0.0000000000
-0.0000089993
-77.8824694024
34.0732091432
