0.0000089993
0.0000000000
0.0000000000
-0.0000089993
-77.8826043916
34.0821454283
