0.0000089993
0.0000000000
0.0000000000
-0.0000089993
-77.9774388049
33.8545242440
