0.0000089993
0.0000000000
0.0000000000
-0.0000089993
-77.9714812815
33.8728041756
