0.0000089993
0.0000000000
0.0000000000
-0.0000089993
-77.9600701944
33.8368250540
