0.0000089993
0.0000000000
0.0000000000
-0.0000089993
-77.9624910007
33.8820104391
