0.0000089993
0.0000000000
0.0000000000
-0.0000089993
-77.9626889849
33.8910817134
