0.0000089993
0.0000000000
0.0000000000
-0.0000089993
-77.9427465803
33.9366360691
