0.0000089993
0.0000000000
0.0000000000
-0.0000089993
-77.9314974802
33.9244060475
