0.0000089993
0.0000000000
0.0000000000
-0.0000089993
-77.9212113031
33.9521328293
