0.0000089993
0.0000000000
0.0000000000
-0.0000089993
-77.9225791937
33.9821814254
