0.0000089993
0.0000000000
0.0000000000
-0.0000089993
-77.9127879770
34.0094582433
