0.0000089993
0.0000000000
0.0000000000
-0.0000089993
-77.9086573074
34.0364830813
