0.0000089993
0.0000000000
0.0000000000
-0.0000089993
-77.8923776098
34.0459233261
