0.0000089993
0.0000000000
0.0000000000
-0.0000089993
-77.8926835853
34.0550125989
