0.0000089993
0.0000000000
0.0000000000
-0.0000089993
-77.8843232541
34.0938354931
