0.0000089993
0.0000000000
0.0000000000
-0.0000089993
-77.8830813535
34.0912886968
