0.0000089993
0.0000000000
0.0000000000
-0.0000089993
-77.8930255580
34.0820284377
