0.0000089993
0.0000000000
0.0000000000
-0.0000089993
-77.8827753780
34.0822804175
