0.0000089993
0.0000000000
0.0000000000
-0.0000089993
-77.8820554356
34.1002969762
