0.0000089993
0.0000000000
0.0000000000
-0.0000089993
-77.8725611951
34.1005489560
