0.0000089993
0.0000000000
0.0000000000
-0.0000089993
-77.8617350612
34.1005849532
