0.0000089993
0.0000000000
0.0000000000
-0.0000089993
-77.8316504680
34.1736141108
