0.0000089993
0.0000000000
0.0000000000
-0.0000089993
-77.8108801296
34.2011339092
